BEGIN:VCALENDAR
VERSION:2.0
PRODID:-//wp-events-plugin.com//7.2.2.1//EN
BEGIN:VEVENT
UID:116@hksoa.org
DTSTART;TZID=Asia/Hong_Kong:20260612T120000
DTEND;TZID=Asia/Hong_Kong:20260612T143000
DTSTAMP:20260420T085508Z
URL:https://hksoa.org/events/joint-hksoa-marine-department-luncheon-and-aw
 ards-presentation-ceremony-friday-12-june-2026/
SUMMARY:Joint HKSOA / Marine Department Luncheon and Awards Presentation Ce
 remony - Friday\, 12 June 2026
DESCRIPTION:
LOCATION:Renaissance Harbour View Hotel\, 1 Harbour Road\, Wanchai\, Hong K
 ong\, China\, Hong Kong\, China\, Hong Kong
X-APPLE-STRUCTURED-LOCATION;VALUE=URI;X-ADDRESS=1 Harbour Road\, Wanchai\, 
 Hong Kong\, China\, Hong Kong\, China\, Hong Kong;X-APPLE-RADIUS=100;X-TIT
 LE=Renaissance Harbour View Hotel:geo:0,0
END:VEVENT
BEGIN:VTIMEZONE
TZID:Asia/Hong_Kong
X-LIC-LOCATION:Asia/Hong_Kong
BEGIN:STANDARD
DTSTART:20250612T120000
TZOFFSETFROM:+0800
TZOFFSETTO:+0800
TZNAME:HKT
END:STANDARD
END:VTIMEZONE
END:VCALENDAR